BEGIN:VCALENDAR
VERSION:2.0
PRODID:-//Daniels Memorial Healthcare - ECPv6.15.17.1//NONSGML v1.0//EN
CALSCALE:GREGORIAN
METHOD:PUBLISH
X-ORIGINAL-URL:https://www.danielsmemorialhealthcare.org
X-WR-CALDESC:Events for Daniels Memorial Healthcare
REFRESH-INTERVAL;VALUE=DURATION:PT1H
X-Robots-Tag:noindex
X-PUBLISHED-TTL:PT1H
BEGIN:VTIMEZONE
TZID:America/Denver
BEGIN:DAYLIGHT
TZOFFSETFROM:-0700
TZOFFSETTO:-0600
TZNAME:MDT
DTSTART:20180311T090000
END:DAYLIGHT
BEGIN:STANDARD
TZOFFSETFROM:-0600
TZOFFSETTO:-0700
TZNAME:MST
DTSTART:20181104T080000
END:STANDARD
BEGIN:DAYLIGHT
TZOFFSETFROM:-0700
TZOFFSETTO:-0600
TZNAME:MDT
DTSTART:20190310T090000
END:DAYLIGHT
BEGIN:STANDARD
TZOFFSETFROM:-0600
TZOFFSETTO:-0700
TZNAME:MST
DTSTART:20191103T080000
END:STANDARD
BEGIN:DAYLIGHT
TZOFFSETFROM:-0700
TZOFFSETTO:-0600
TZNAME:MDT
DTSTART:20200308T090000
END:DAYLIGHT
BEGIN:STANDARD
TZOFFSETFROM:-0600
TZOFFSETTO:-0700
TZNAME:MST
DTSTART:20201101T080000
END:STANDARD
END:VTIMEZONE
BEGIN:VEVENT
DTSTART;TZID=America/Denver:20190828T090000
DTEND;TZID=America/Denver:20190828T160000
DTSTAMP:20260421T124320
CREATED:20190510T203146Z
LAST-MODIFIED:20191231T035729Z
UID:199-1566982800-1567008000@www.danielsmemorialhealthcare.org
SUMMARY:Immunizations
DESCRIPTION:Immunization appointments are set up each Wednesday 9 am to 4 pm. \nTo schedule an immunization\, please call 487-2313.
URL:https://www.danielsmemorialhealthcare.org/event/immunizations/2019-08-28/
LOCATION:Daniels Memorial Healthcare Center\, 105 5th Avenue East\, Scobey\, MT\, 59263\, United States
END:VEVENT
END:VCALENDAR