BEGIN:VCALENDAR
VERSION:2.0
PRODID:-//Daniels Memorial Healthcare - ECPv6.15.17.1//NONSGML v1.0//EN
CALSCALE:GREGORIAN
METHOD:PUBLISH
X-WR-CALNAME:Daniels Memorial Healthcare
X-ORIGINAL-URL:https://www.danielsmemorialhealthcare.org
X-WR-CALDESC:Events for Daniels Memorial Healthcare
REFRESH-INTERVAL;VALUE=DURATION:PT1H
X-Robots-Tag:noindex
X-PUBLISHED-TTL:PT1H
BEGIN:VTIMEZONE
TZID:America/Denver
BEGIN:DAYLIGHT
TZOFFSETFROM:-0700
TZOFFSETTO:-0600
TZNAME:MDT
DTSTART:20180311T090000
END:DAYLIGHT
BEGIN:STANDARD
TZOFFSETFROM:-0600
TZOFFSETTO:-0700
TZNAME:MST
DTSTART:20181104T080000
END:STANDARD
BEGIN:DAYLIGHT
TZOFFSETFROM:-0700
TZOFFSETTO:-0600
TZNAME:MDT
DTSTART:20190310T090000
END:DAYLIGHT
BEGIN:STANDARD
TZOFFSETFROM:-0600
TZOFFSETTO:-0700
TZNAME:MST
DTSTART:20191103T080000
END:STANDARD
BEGIN:DAYLIGHT
TZOFFSETFROM:-0700
TZOFFSETTO:-0600
TZNAME:MDT
DTSTART:20200308T090000
END:DAYLIGHT
BEGIN:STANDARD
TZOFFSETFROM:-0600
TZOFFSETTO:-0700
TZNAME:MST
DTSTART:20201101T080000
END:STANDARD
END:VTIMEZONE
BEGIN:VEVENT
DTSTART;TZID=America/Denver:20190910T090000
DTEND;TZID=America/Denver:20190910T100000
DTSTAMP:20260421T192933
CREATED:20190620T143720Z
LAST-MODIFIED:20190909T202952Z
UID:1033-1568106000-1568109600@www.danielsmemorialhealthcare.org
SUMMARY:Library
DESCRIPTION:
URL:https://www.danielsmemorialhealthcare.org/event/library/2019-09-10/
LOCATION:Daniels Memorial Healthcare Center\, 105 5th Avenue East\, Scobey\, MT\, 59263\, United States
CATEGORIES:Activities
END:VEVENT
END:VCALENDAR