BEGIN:VCALENDAR
VERSION:2.0
PRODID:-//Daniels Memorial Healthcare - ECPv6.15.17.1//NONSGML v1.0//EN
CALSCALE:GREGORIAN
METHOD:PUBLISH
X-WR-CALNAME:Daniels Memorial Healthcare
X-ORIGINAL-URL:https://www.danielsmemorialhealthcare.org
X-WR-CALDESC:Events for Daniels Memorial Healthcare
REFRESH-INTERVAL;VALUE=DURATION:PT1H
X-Robots-Tag:noindex
X-PUBLISHED-TTL:PT1H
BEGIN:VTIMEZONE
TZID:America/Denver
BEGIN:DAYLIGHT
TZOFFSETFROM:-0700
TZOFFSETTO:-0600
TZNAME:MDT
DTSTART:20180311T090000
END:DAYLIGHT
BEGIN:STANDARD
TZOFFSETFROM:-0600
TZOFFSETTO:-0700
TZNAME:MST
DTSTART:20181104T080000
END:STANDARD
BEGIN:DAYLIGHT
TZOFFSETFROM:-0700
TZOFFSETTO:-0600
TZNAME:MDT
DTSTART:20190310T090000
END:DAYLIGHT
BEGIN:STANDARD
TZOFFSETFROM:-0600
TZOFFSETTO:-0700
TZNAME:MST
DTSTART:20191103T080000
END:STANDARD
BEGIN:DAYLIGHT
TZOFFSETFROM:-0700
TZOFFSETTO:-0600
TZNAME:MDT
DTSTART:20200308T090000
END:DAYLIGHT
BEGIN:STANDARD
TZOFFSETFROM:-0600
TZOFFSETTO:-0700
TZNAME:MST
DTSTART:20201101T080000
END:STANDARD
END:VTIMEZONE
BEGIN:VEVENT
DTSTART;VALUE=DATE:20190909
DTEND;VALUE=DATE:20190910
DTSTAMP:20260421T090824
CREATED:20190909T200450Z
LAST-MODIFIED:20200307T202112Z
UID:1438-1567987200-1568073599@www.danielsmemorialhealthcare.org
SUMMARY:Mobile MRI
DESCRIPTION:The Mobile MRI unit will be onsite in the Daniels Memorial parking area. \nPlease call Radiology at 487-2302 for an appointment.
URL:https://www.danielsmemorialhealthcare.org/event/mobile-mri/2019-09-09/
LOCATION:Daniels Memorial Healthcare Center\, 105 5th Avenue East\, Scobey\, MT\, 59263\, United States
CATEGORIES:Monthly Calendar
END:VEVENT
END:VCALENDAR