BEGIN:VCALENDAR
VERSION:2.0
PRODID:-//Daniels Memorial Healthcare - ECPv6.15.17.1//NONSGML v1.0//EN
CALSCALE:GREGORIAN
METHOD:PUBLISH
X-WR-CALNAME:Daniels Memorial Healthcare
X-ORIGINAL-URL:https://www.danielsmemorialhealthcare.org
X-WR-CALDESC:Events for Daniels Memorial Healthcare
REFRESH-INTERVAL;VALUE=DURATION:PT1H
X-Robots-Tag:noindex
X-PUBLISHED-TTL:PT1H
BEGIN:VTIMEZONE
TZID:America/Denver
BEGIN:DAYLIGHT
TZOFFSETFROM:-0700
TZOFFSETTO:-0600
TZNAME:MDT
DTSTART:20230312T090000
END:DAYLIGHT
BEGIN:STANDARD
TZOFFSETFROM:-0600
TZOFFSETTO:-0700
TZNAME:MST
DTSTART:20231105T080000
END:STANDARD
BEGIN:DAYLIGHT
TZOFFSETFROM:-0700
TZOFFSETTO:-0600
TZNAME:MDT
DTSTART:20240310T090000
END:DAYLIGHT
BEGIN:STANDARD
TZOFFSETFROM:-0600
TZOFFSETTO:-0700
TZNAME:MST
DTSTART:20241103T080000
END:STANDARD
BEGIN:DAYLIGHT
TZOFFSETFROM:-0700
TZOFFSETTO:-0600
TZNAME:MDT
DTSTART:20250309T090000
END:DAYLIGHT
BEGIN:STANDARD
TZOFFSETFROM:-0600
TZOFFSETTO:-0700
TZNAME:MST
DTSTART:20251102T080000
END:STANDARD
END:VTIMEZONE
BEGIN:VEVENT
DTSTART;TZID=America/Denver:20240815T111500
DTEND;TZID=America/Denver:20240815T164500
DTSTAMP:20260421T075413
CREATED:20210909T161526Z
LAST-MODIFIED:20240813T165221Z
UID:4453-1723720500-1723740300@www.danielsmemorialhealthcare.org
SUMMARY:Red Cross Blood Drive
DESCRIPTION:The American Red Cross will be in Scobey on Thursday\, August 15th at St. Philip Bonitus Catholic Center. \nCall the American Red Cross at 1-800-REDCROSS (1-800-733-2767) \nor visit www.redcrossblood.org and enter sponsor code: Scobey \nor schedule an appointment using the Blood Donor App.
URL:https://www.danielsmemorialhealthcare.org/event/blood-drive-2/
LOCATION:St. Philip’s Catholic Church\, 401 Timmons St\, Scobey\, MT\, 59263\, United States
CATEGORIES:Monthly Calendar
END:VEVENT
BEGIN:VEVENT
DTSTART;TZID=America/Denver:20240826T170000
DTEND;TZID=America/Denver:20240826T190000
DTSTAMP:20260421T075413
CREATED:20230928T000323Z
LAST-MODIFIED:20250703T180515Z
UID:35912-1724691600-1724698800@www.danielsmemorialhealthcare.org
SUMMARY:Board of Directors Meeting
DESCRIPTION:Daniels Memorial Conference Room \nOpen to the public
URL:https://www.danielsmemorialhealthcare.org/event/board-of-directors-meeting-2/2024-08-26/
LOCATION:Daniels Memorial Healthcare Center\, 105 5th Avenue East\, Scobey\, MT\, 59263\, United States
CATEGORIES:Monthly Calendar
END:VEVENT
BEGIN:VEVENT
DTSTART;VALUE=DATE:20240828
DTEND;VALUE=DATE:20240830
DTSTAMP:20260421T075413
CREATED:20190510T201615Z
LAST-MODIFIED:20240813T164513Z
UID:190-1724803200-1724975999@www.danielsmemorialhealthcare.org
SUMMARY:Mobile Mammography Unit
DESCRIPTION:The Mobile Mammography Truck will be at Daniels Memorial on: \nWednesday\, August 28 \nThursday\, August 29 \nTo schedule an appointment\, please call (406) 237-4373.
URL:https://www.danielsmemorialhealthcare.org/event/digital-mobile-mammography-unit-3/2024-08-28/
LOCATION:Daniels Memorial Healthcare Center\, 105 5th Avenue East\, Scobey\, MT\, 59263\, United States
CATEGORIES:Monthly Calendar
END:VEVENT
END:VCALENDAR