BEGIN:VCALENDAR
VERSION:2.0
PRODID:-//Daniels Memorial Healthcare - ECPv6.15.17.1//NONSGML v1.0//EN
CALSCALE:GREGORIAN
METHOD:PUBLISH
X-ORIGINAL-URL:https://www.danielsmemorialhealthcare.org
X-WR-CALDESC:Events for Daniels Memorial Healthcare
REFRESH-INTERVAL;VALUE=DURATION:PT1H
X-Robots-Tag:noindex
X-PUBLISHED-TTL:PT1H
BEGIN:VTIMEZONE
TZID:America/Denver
BEGIN:DAYLIGHT
TZOFFSETFROM:-0700
TZOFFSETTO:-0600
TZNAME:MDT
DTSTART:20180311T090000
END:DAYLIGHT
BEGIN:STANDARD
TZOFFSETFROM:-0600
TZOFFSETTO:-0700
TZNAME:MST
DTSTART:20181104T080000
END:STANDARD
BEGIN:DAYLIGHT
TZOFFSETFROM:-0700
TZOFFSETTO:-0600
TZNAME:MDT
DTSTART:20190310T090000
END:DAYLIGHT
BEGIN:STANDARD
TZOFFSETFROM:-0600
TZOFFSETTO:-0700
TZNAME:MST
DTSTART:20191103T080000
END:STANDARD
BEGIN:DAYLIGHT
TZOFFSETFROM:-0700
TZOFFSETTO:-0600
TZNAME:MDT
DTSTART:20200308T090000
END:DAYLIGHT
BEGIN:STANDARD
TZOFFSETFROM:-0600
TZOFFSETTO:-0700
TZNAME:MST
DTSTART:20201101T080000
END:STANDARD
END:VTIMEZONE
BEGIN:VEVENT
DTSTART;TZID=America/Denver:20190620T150000
DTEND;TZID=America/Denver:20190620T160000
DTSTAMP:20260424T055210
CREATED:20190619T213125Z
LAST-MODIFIED:20190626T200748Z
UID:919-1561042800-1561046400@www.danielsmemorialhealthcare.org
SUMMARY:Needlework
DESCRIPTION:
URL:https://www.danielsmemorialhealthcare.org/event/needlework/2019-06-20/
LOCATION:Daniels Memorial Healthcare Center\, 105 5th Avenue East\, Scobey\, MT\, 59263\, United States
CATEGORIES:Activities
END:VEVENT
BEGIN:VEVENT
DTSTART;TZID=America/Denver:20190620T103000
DTEND;TZID=America/Denver:20190620T113000
DTSTAMP:20260424T055210
CREATED:20190620T143309Z
LAST-MODIFIED:20190626T195031Z
UID:1027-1561026600-1561030200@www.danielsmemorialhealthcare.org
SUMMARY:Horseshoes
DESCRIPTION:
URL:https://www.danielsmemorialhealthcare.org/event/horseshoes/
LOCATION:Daniels Memorial Healthcare Center\, 105 5th Avenue East\, Scobey\, MT\, 59263\, United States
CATEGORIES:Activities
END:VEVENT
BEGIN:VEVENT
DTSTART;TZID=America/Denver:20190620T100000
DTEND;TZID=America/Denver:20190620T110000
DTSTAMP:20260424T055210
CREATED:20190620T143505Z
LAST-MODIFIED:20190626T194923Z
UID:1029-1561024800-1561028400@www.danielsmemorialhealthcare.org
SUMMARY:Morning in the Garden
DESCRIPTION:
URL:https://www.danielsmemorialhealthcare.org/event/morning-in-the-garden/
LOCATION:Daniels Memorial Healthcare Center\, 105 5th Avenue East\, Scobey\, MT\, 59263\, United States
CATEGORIES:Activities
END:VEVENT
BEGIN:VEVENT
DTSTART;TZID=America/Denver:20190614T110000
DTEND;TZID=America/Denver:20190614T153000
DTSTAMP:20260424T055210
CREATED:20190510T200734Z
LAST-MODIFIED:20190510T202315Z
UID:184-1560510000-1560526200@www.danielsmemorialhealthcare.org
SUMMARY:Digital Mobile Mammography Unit
DESCRIPTION:As part of a regular physical examination\, a mammogram can be used as a screening tool to detect breast cancer in its early stages\, before it can be found through a physical examination. You do not need a providers orders or prescription to schedule a mammogram. \nIf you are unable to pay for mammography services or do not have insurance you may qualify for assistance through the Montana Cancer Screening Program.  Contact Teresa Danelson at 406-487-5560 prior to exam. \nDMHC parking areaTo schedule an appointment call 406-487-2302.
URL:https://www.danielsmemorialhealthcare.org/event/digital-mobile-mammography-unit/
LOCATION:Daniels Memorial Healthcare Center\, 105 5th Avenue East\, Scobey\, MT\, 59263\, United States
CATEGORIES:Monthly Calendar
END:VEVENT
END:VCALENDAR